BEGIN:VCALENDAR
VERSION:2.0
PRODID:-//Editions des Offray - ECPv6.15.18//NONSGML v1.0//EN
CALSCALE:GREGORIAN
METHOD:PUBLISH
X-WR-CALNAME:Editions des Offray
X-ORIGINAL-URL:https://editionsdesoffray.fr
X-WR-CALDESC:Évènements pour Editions des Offray
REFRESH-INTERVAL;VALUE=DURATION:PT1H
X-Robots-Tag:noindex
X-PUBLISHED-TTL:PT1H
BEGIN:VTIMEZONE
TZID:Europe/Paris
BEGIN:DAYLIGHT
TZOFFSETFROM:+0100
TZOFFSETTO:+0200
TZNAME:CEST
DTSTART:20250330T010000
END:DAYLIGHT
BEGIN:STANDARD
TZOFFSETFROM:+0200
TZOFFSETTO:+0100
TZNAME:CET
DTSTART:20251026T010000
END:STANDARD
BEGIN:DAYLIGHT
TZOFFSETFROM:+0100
TZOFFSETTO:+0200
TZNAME:CEST
DTSTART:20260329T010000
END:DAYLIGHT
BEGIN:STANDARD
TZOFFSETFROM:+0200
TZOFFSETTO:+0100
TZNAME:CET
DTSTART:20261025T010000
END:STANDARD
BEGIN:DAYLIGHT
TZOFFSETFROM:+0100
TZOFFSETTO:+0200
TZNAME:CEST
DTSTART:20270328T010000
END:DAYLIGHT
BEGIN:STANDARD
TZOFFSETFROM:+0200
TZOFFSETTO:+0100
TZNAME:CET
DTSTART:20271031T010000
END:STANDARD
END:VTIMEZONE
BEGIN:VEVENT
DTSTART;TZID=Europe/Paris:20260423T190000
DTEND;TZID=Europe/Paris:20260423T190000
DTSTAMP:20260423T220205
CREATED:20260402T112353Z
LAST-MODIFIED:20260402T112353Z
UID:5966-1776970800-1776970800@editionsdesoffray.fr
SUMMARY:Rencontre-dédicace avec Joëlle Bault
DESCRIPTION:Présentation du deuxième roman\, Sous un jour différent.
URL:https://editionsdesoffray.fr/event/rencontre-dedicace-avec-joelle-bault/
LOCATION:Librairie de Malaucène\, Malaucène
ORGANIZER;CN="Librairie de Malauc%C3%A8ne":MAILTO:librairiedemalaucene@gmail.com
END:VEVENT
END:VCALENDAR