BEGIN:VCALENDAR
VERSION:2.0
PRODID:-//Editions des Offray - ECPv6.15.18//NONSGML v1.0//EN
CALSCALE:GREGORIAN
METHOD:PUBLISH
X-WR-CALNAME:Editions des Offray
X-ORIGINAL-URL:https://editionsdesoffray.fr
X-WR-CALDESC:Évènements pour Editions des Offray
REFRESH-INTERVAL;VALUE=DURATION:PT1H
X-Robots-Tag:noindex
X-PUBLISHED-TTL:PT1H
BEGIN:VTIMEZONE
TZID:Europe/Paris
BEGIN:DAYLIGHT
TZOFFSETFROM:+0100
TZOFFSETTO:+0200
TZNAME:CEST
DTSTART:20250330T010000
END:DAYLIGHT
BEGIN:STANDARD
TZOFFSETFROM:+0200
TZOFFSETTO:+0100
TZNAME:CET
DTSTART:20251026T010000
END:STANDARD
BEGIN:DAYLIGHT
TZOFFSETFROM:+0100
TZOFFSETTO:+0200
TZNAME:CEST
DTSTART:20260329T010000
END:DAYLIGHT
BEGIN:STANDARD
TZOFFSETFROM:+0200
TZOFFSETTO:+0100
TZNAME:CET
DTSTART:20261025T010000
END:STANDARD
BEGIN:DAYLIGHT
TZOFFSETFROM:+0100
TZOFFSETTO:+0200
TZNAME:CEST
DTSTART:20270328T010000
END:DAYLIGHT
BEGIN:STANDARD
TZOFFSETFROM:+0200
TZOFFSETTO:+0100
TZNAME:CET
DTSTART:20271031T010000
END:STANDARD
END:VTIMEZONE
BEGIN:VEVENT
DTSTART;VALUE=DATE:20260418
DTEND;VALUE=DATE:20260419
DTSTAMP:20260423T190659
CREATED:20260402T112352Z
LAST-MODIFIED:20260402T120714Z
UID:5962-1776470400-1776556799@editionsdesoffray.fr
SUMMARY:Michèle Margain en signature
DESCRIPTION:Séance de dédicace.
URL:https://editionsdesoffray.fr/event/michele-margain-en-signature/
LOCATION:Librairie L’Orange bleue\, 23 Rue Caristie\, Orange\, 84100\, France
END:VEVENT
BEGIN:VEVENT
DTSTART;VALUE=DATE:20260418
DTEND;VALUE=DATE:20260420
DTSTAMP:20260423T190659
CREATED:20260402T112353Z
LAST-MODIFIED:20260402T121706Z
UID:5964-1776470400-1776643199@editionsdesoffray.fr
SUMMARY:Festival Vent debout
DESCRIPTION:Festival des carnets de voyage.
URL:https://editionsdesoffray.fr/event/festival-vent-debout/
END:VEVENT
BEGIN:VEVENT
DTSTART;TZID=Europe/Paris:20260418T100000
DTEND;TZID=Europe/Paris:20260418T180000
DTSTAMP:20260423T190659
CREATED:20260402T112353Z
LAST-MODIFIED:20260402T112353Z
UID:5963-1776506400-1776535200@editionsdesoffray.fr
SUMMARY:Salon du livre jeunesse du Pontet
DESCRIPTION:Présence de Laurent Elcé. Entrée libre.
URL:https://editionsdesoffray.fr/event/salon-du-livre-jeunesse-du-pontet/
LOCATION:Parc de la mairie\, Le Pontet
END:VEVENT
BEGIN:VEVENT
DTSTART;TZID=Europe/Paris:20260418T140000
DTEND;TZID=Europe/Paris:20260418T190000
DTSTAMP:20260423T190659
CREATED:20260402T112353Z
LAST-MODIFIED:20260402T122056Z
UID:5965-1776520800-1776538800@editionsdesoffray.fr
SUMMARY:Atelier de chant choral
DESCRIPTION:Les Voix du Grozeau\, de Malaucène\, vous invitent à un atelier de chant choral\, le 18 avril\, de 14 h à 18 heures\, salle de la mairie de Malaucène\, autour des chorals 1\, 3\, 7\, 11 du motet BWV 227\, Jesu meine Freude\, de J.S. Bach.\nÀ 18 heures\, présentation du travail au public\, suivi du pot de l’amitié.
URL:https://editionsdesoffray.fr/event/atelier-de-chant-choral/
LOCATION:Mairie de Malaucène\, Malaucène
CATEGORIES:Musique
END:VEVENT
BEGIN:VEVENT
DTSTART;TZID=Europe/Paris:20260418T160000
DTEND;TZID=Europe/Paris:20260418T160000
DTSTAMP:20260423T190659
CREATED:20260402T112351Z
LAST-MODIFIED:20260402T121534Z
UID:5961-1776528000-1776528000@editionsdesoffray.fr
SUMMARY:Festival du livre de Paris
DESCRIPTION:Dominique Tissot en signature avec les éditions du Soupirail pour son recueil de poésie Ajouter au jour. \nhttps://www.festivaldulivredeparis.fr/Les/auteurs/view/6188/dominique-tissot?
URL:https://editionsdesoffray.fr/event/festival-du-livre-de-paris/
LOCATION:Grand Palais\, Paris
END:VEVENT
END:VCALENDAR